BEGIN:VCALENDAR
VERSION:2.0
PRODID:haydi//Pathos Theater Website
BEGIN:VEVENT
UID:5afae4461357759fd64fb703ab28a323
SUMMARY:<em><strong>Kreativlabor Open 2026</strong></em>
<p>Jazz&Politik als Live-Podcast mit Live-Musik</p>
DTSTART;TZID=Europe/Berlin:20260620T200000Z
DTEND;TZID=Europe/Berlin:20260620T230000Z
DTSTAMP:1777120694
DESCRIPTION:Politisches Feuilleton von Lukas Hammerstein & Freund*innen
URL;VALUE=URI: https://www.pathos.theater/digitale-buehne/01_Podcasts/Jazz_Politik_im_Pathos/Jazz_Politik_im_Pathos_Folge39.php
END:VEVENT
END:VCALENDAR