BEGIN:VCALENDAR
VERSION:2.0
PRODID:haydi//Pathos Theater Website
BEGIN:VEVENT
UID:d679fadf0abc004419128e016d6a8673
SUMMARY:Hot Flashes – Cool Stories (Teil 2/2)
DTSTART;TZID=Europe/Berlin:20260110T110000Z
DTEND;TZID=Europe/Berlin:20260110T140000Z
DTSTAMP:1776763358
DESCRIPTION:Schreibwerkstatt zu den Wechseljahren
<p>mit Eva Löbau und Judith Huber</p>
URL;VALUE=URI: https://www.pathos.theater/veranstaltungen/2025/2025_11-12/12_12_Hot_Flashes_Cool_Stories.php
END:VEVENT
END:VCALENDAR