BEGIN:VCALENDAR
VERSION:2.0
PRODID:haydi//Pathos Theater Website
BEGIN:VEVENT
UID:126a3210d67e938f11b3d555954b6cbb
SUMMARY:Hot Flashes – Cool Stories (Teil 1/2)
DTSTART;TZID=Europe/Berlin:20260109T180000Z
DTEND;TZID=Europe/Berlin:20260109T210000Z
DTSTAMP:1776762120
DESCRIPTION:Schreibwerkstatt zu den Wechseljahren
<p>mit Eva Löbau und Judith Huber</p>
URL;VALUE=URI: https://www.pathos.theater/veranstaltungen/2025/2025_11-12/12_12_Hot_Flashes_Cool_Stories.php
END:VEVENT
END:VCALENDAR