BEGIN:VCALENDAR
VERSION:2.0
PRODID:haydi//Pathos Theater Website
BEGIN:VEVENT
UID:d62c61a93b961f4e29461494362cd6e1
SUMMARY:Hot Flashes – Cool Stories (Teil 2/2)
DTSTART;TZID=Europe/Berlin:20251213T110000Z
DTEND;TZID=Europe/Berlin:20251213T140000Z
DTSTAMP:1776762572
DESCRIPTION:Schreibwerkstatt zu den Wechseljahren
<p>mit Eva Löbau und Judith Huber</p>
URL;VALUE=URI: https://www.pathos.theater/veranstaltungen/2025/2025_11-12/12_12_Hot_Flashes_Cool_Stories.php
END:VEVENT
END:VCALENDAR