BEGIN:VCALENDAR
VERSION:2.0
PRODID:haydi//Pathos Theater Website
BEGIN:VEVENT
UID:4f1977674af74765220098af56f825a6
SUMMARY:Hot Flashes – Cool Stories (Teil 1/2)
DTSTART;TZID=Europe/Berlin:20251212T180000Z
DTEND;TZID=Europe/Berlin:20251212T210000Z
DTSTAMP:1776762555
DESCRIPTION:Schreibwerkstatt zu den Wechseljahren
<p>mit Eva Löbau und Judith Huber</p>
URL;VALUE=URI: https://www.pathos.theater/veranstaltungen/2025/2025_11-12/12_12_Hot_Flashes_Cool_Stories.php
END:VEVENT
END:VCALENDAR