BEGIN:VCALENDAR
VERSION:2.0
PRODID:haydi//Pathos Theater Website
BEGIN:VEVENT
UID:8619d378fd489466bd71391058536348
SUMMARY:1
DTSTART;TZID=Europe/Berlin:20251221T180000Z
DTEND;TZID=Europe/Berlin:20251221T193000Z
DTSTAMP:1776768252
DESCRIPTION:Performance von Young PATHOS Kollektiv
URL;VALUE=URI: https://www.pathos.theater/veranstaltungen/2025/2025_11-12/12_17_1.php
END:VEVENT
END:VCALENDAR