BEGIN:VCALENDAR
VERSION:2.0
PRODID:haydi//Pathos Theater Website
BEGIN:VEVENT
UID:05b386f297b99eb0d163f08f5c9b83c9
SUMMARY:1
DTSTART;TZID=Europe/Berlin:20251220T200000Z
DTEND;TZID=Europe/Berlin:20251220T213000Z
DTSTAMP:1776933207
DESCRIPTION:Performance von Young PATHOS Kollektiv
URL;VALUE=URI: https://www.pathos.theater/veranstaltungen/2025/2025_11-12/12_17_1.php
END:VEVENT
END:VCALENDAR