BEGIN:VCALENDAR
VERSION:2.0
PRODID:haydi//Pathos Theater Website
BEGIN:VEVENT
UID:adca776c0685e48d34975f0cbb1a6bf8
SUMMARY:1
DTSTART;TZID=Europe/Berlin:20251219T200000Z
DTEND;TZID=Europe/Berlin:20251219T213000Z
DTSTAMP:1776768690
DESCRIPTION:Performance von Young PATHOS Kollektiv
URL;VALUE=URI: https://www.pathos.theater/veranstaltungen/2025/2025_11-12/12_17_1.php
END:VEVENT
END:VCALENDAR