BEGIN:VCALENDAR
VERSION:2.0
PRODID:haydi//Pathos Theater Website
BEGIN:VEVENT
UID:414ad801e9254d481def7515819aa07b
SUMMARY:1
DTSTART;TZID=Europe/Berlin:20251218T200000Z
DTEND;TZID=Europe/Berlin:20251218T213000Z
DTSTAMP:1776767976
DESCRIPTION:Performance von Young PATHOS Kollektiv
URL;VALUE=URI: https://www.pathos.theater/veranstaltungen/2025/2025_11-12/12_17_1.php
END:VEVENT
END:VCALENDAR