BEGIN:VCALENDAR
VERSION:2.0
PRODID:haydi//Pathos Theater Website
BEGIN:VEVENT
UID:95692b01d669ce4b775db00b22e4b6f9
SUMMARY:1
DTSTART;TZID=Europe/Berlin:20251217T200000Z
DTEND;TZID=Europe/Berlin:20251217T213000Z
DTSTAMP:1776768315
DESCRIPTION:Performance von Young PATHOS Kollektiv
URL;VALUE=URI: https://www.pathos.theater/veranstaltungen/2025/2025_11-12/12_17_1.php
END:VEVENT
END:VCALENDAR