BEGIN:VCALENDAR
VERSION:2.0
PRODID:haydi//Pathos Theater Website
BEGIN:VEVENT
UID:b402de505d54cc535e9d6298c00618a3
SUMMARY:Kooperationen 2025
DTSTART;TZID=Europe/Berlin:20251130T170000Z
DTEND;TZID=Europe/Berlin:20251130T220000Z
DTSTAMP:1776783616
DESCRIPTION:Jubiläumsfest zum 10jährigen Bestehen der Lyrik-Kooperationen
URL;VALUE=URI: https://www.pathos.theater/veranstaltungen/2025/2025_11-12/11_30_Kooperationen_2025.php
END:VEVENT
END:VCALENDAR