BEGIN:VCALENDAR
VERSION:2.0
PRODID:haydi//Pathos Theater Website
BEGIN:VEVENT
UID:08a650999bac3d9cdb9b02e9176cde7e
SUMMARY:<em><strong>TEUTONISTAN:</strong></em>
<p>Konzertabend</p>
DTSTART;TZID=Europe/Berlin:20251122T200000Z
DTEND;TZID=Europe/Berlin:20251122T213000Z
DTSTAMP:1776762057
DESCRIPTION:von Ippio Payo aka Josip Pavlov
URL;VALUE=URI: https://www.pathos.theater/veranstaltungen/2025/2025_11-12/11_17_TEUTONISTAN.php
END:VEVENT
END:VCALENDAR