BEGIN:VCALENDAR
VERSION:2.0
PRODID:haydi//Pathos Theater Website
BEGIN:VEVENT
UID:63d0168d986dea9db826cff45fdbe628
SUMMARY:<em><strong>TEUTONISTAN</strong></em>
DTSTART;TZID=Europe/Berlin:20251121T200000Z
DTEND;TZID=Europe/Berlin:20251121T213000Z
DTSTAMP:1776762842
DESCRIPTION:Interdisziplinäres Bühnenprojekt von Bülent Kullukcu & Karnik Gregorian
URL;VALUE=URI: https://www.pathos.theater/veranstaltungen/2025/2025_11-12/11_17_TEUTONISTAN.php
END:VEVENT
END:VCALENDAR