BEGIN:VCALENDAR
VERSION:2.0
PRODID:haydi//Pathos Theater Website
BEGIN:VEVENT
UID:10510edcacb668aa0750b34c3fa7ecbb
SUMMARY:<em><strong>TEUTONISTAN:</strong></em>
<p>Sind wir uns denn so fremd?</p>
DTSTART;TZID=Europe/Berlin:20251120T200000Z
DTEND;TZID=Europe/Berlin:20251120T223000Z
DTSTAMP:1776762802
DESCRIPTION:Diskussion mit Margrit Gregorian, Susannah Perdighe, Özlem Tetik, Şahika Tetik u.a.
<p> </p>
URL;VALUE=URI: https://www.pathos.theater/veranstaltungen/2025/2025_11-12/11_17_TEUTONISTAN.php
END:VEVENT
END:VCALENDAR