BEGIN:VCALENDAR
VERSION:2.0
PRODID:haydi//Pathos Theater Website
BEGIN:VEVENT
UID:b71106b3e547503683a147de6404d839
SUMMARY:<em><strong>TEUTONISTAN:</strong></em>
<p>Die Gerichte meines Vaters</p>
DTSTART;TZID=Europe/Berlin:20251119T200000Z
DTEND;TZID=Europe/Berlin:20251119T223000Z
DTSTAMP:1776761690
DESCRIPTION:Dokumentarfilm von Karnik Gregorian
<p> </p>
URL;VALUE=URI: https://www.pathos.theater/veranstaltungen/2025/2025_11-12/11_17_TEUTONISTAN.php
END:VEVENT
END:VCALENDAR