BEGIN:VCALENDAR
VERSION:2.0
PRODID:haydi//Pathos Theater Website
BEGIN:VEVENT
UID:63b3afaaa33c34903a65b030dd008f21
SUMMARY:<em><strong>TEUTONISTAN:</strong></em>
<p>Die Mitte driftet nach rechts – mehr Solidarität wagen!</p>
DTSTART;TZID=Europe/Berlin:20251117T200000Z
DTEND;TZID=Europe/Berlin:20251117T223000Z
DTSTAMP:1776604663
DESCRIPTION:Filmscreening von <em><strong>Töchter des Aufbruchs</strong></em> und anschließendes Gespräch mit der Regisseurin Uli Bez und einer Protagonistin.
<p> </p>
URL;VALUE=URI: https://www.pathos.theater/veranstaltungen/2025/2025_11-12/11_17_TEUTONISTAN.php
END:VEVENT
END:VCALENDAR