BEGIN:VCALENDAR
VERSION:2.0
PRODID:haydi//Pathos Theater Website
BEGIN:VEVENT
UID:c6a3a0f86ff61ae2000c6a9c5665231c
SUMMARY:the loom of it all
DTSTART;TZID=Europe/Berlin:20251116T180000Z
DTEND;TZID=Europe/Berlin:20251116T192000Z
DTSTAMP:1776867677
DESCRIPTION:Performance von Netzwerk Münchner Theatertexter*innen
<p> </p>
<p><strong>ca. 20 Minuten vor Vorstellungsbeginn gibt es eine Einführung in klarer Sprache.</strong></p>
URL;VALUE=URI: https://www.pathos.theater/veranstaltungen/2025/2025_11-12/11_14_the_loom_of_it_all.php
END:VEVENT
END:VCALENDAR