BEGIN:VCALENDAR
VERSION:2.0
PRODID:haydi//Pathos Theater Website
BEGIN:VEVENT
UID:f9f31f222b23a5b364ed8c504c23c0ec
SUMMARY:the loom of it all
DTSTART;TZID=Europe/Berlin:20251115T200000Z
DTEND;TZID=Europe/Berlin:20251115T212000Z
DTSTAMP:1776868162
DESCRIPTION:Performance von Netzwerk Münchner Theatertexter*innen
<p> </p>
<p><strong>ca. 20 Minuten vor Vorstellungsbeginn gibt es eine Einführung in klarer Sprache.</strong></p>
URL;VALUE=URI: https://www.pathos.theater/veranstaltungen/2025/2025_11-12/11_14_the_loom_of_it_all.php
END:VEVENT
END:VCALENDAR