BEGIN:VCALENDAR
VERSION:2.0
PRODID:haydi//Pathos Theater Website
BEGIN:VEVENT
UID:135a66d5da7ef1d8e80fb14f48d8f9ee
SUMMARY:the loom of it all
DTSTART;TZID=Europe/Berlin:20251114T200000Z
DTEND;TZID=Europe/Berlin:20251114T212000Z
DTSTAMP:1776867781
DESCRIPTION:Performance von Netzwerk Münchner Theatertexter*innen
<p> </p>
<p><strong>ca. 20 Minuten vor Vorstellungsbeginn gibt es eine Einführung in klarer Sprache.</strong></p>
URL;VALUE=URI: https://www.pathos.theater/veranstaltungen/2025/2025_11-12/11_14_the_loom_of_it_all.php
END:VEVENT
END:VCALENDAR