BEGIN:VCALENDAR
VERSION:2.0
PRODID:haydi//Pathos Theater Website
BEGIN:VEVENT
UID:7deb4ebdc892a7b833d26c5641dd8f1d
SUMMARY:Galaxie der Empathie
DTSTART;TZID=Europe/Berlin:20250928T160000Z
DTEND;TZID=Europe/Berlin:20250928T173000Z
DTSTAMP:1776762238
DESCRIPTION:Partizipatives Theater und Installation von Initiative Ausstellungspark
URL;VALUE=URI: https://www.pathos.theater/veranstaltungen/2025/2025_09-10/09_26_Galaxie_der_Empathie.php
END:VEVENT
END:VCALENDAR