BEGIN:VCALENDAR
VERSION:2.0
PRODID:haydi//Pathos Theater Website
BEGIN:VEVENT
UID:4f3faa823097253ba0ef4ecc350fe650
SUMMARY:Frau kann Mann 
DTSTART;TZID=Europe/Berlin:20250511T180000Z
DTEND;TZID=Europe/Berlin:20250511T191000Z
DTSTAMP:1776761958
DESCRIPTION:Ein Kunststück über die Darstellung von Männlichkeiten von Ruby Tuesday & Eric Big Clit
URL;VALUE=URI: https://www.pathos.theater/veranstaltungen/2025/2025_05-06-07/05_09_frau_kann_mann.php
END:VEVENT
END:VCALENDAR