BEGIN:VCALENDAR
VERSION:2.0
PRODID:haydi//Pathos Theater Website
BEGIN:VEVENT
UID:eb5ed73ad66d2a4d623501a87e6128f6
SUMMARY:Frau kann Mann 
DTSTART;TZID=Europe/Berlin:20250510T200000Z
DTEND;TZID=Europe/Berlin:20250510T211000Z
DTSTAMP:1776761376
DESCRIPTION:Ein Kunststück über die Darstellung von Männlichkeiten von Ruby Tuesday & Eric Big Clit
URL;VALUE=URI: https://www.pathos.theater/veranstaltungen/2025/2025_05-06-07/05_09_frau_kann_mann.php
END:VEVENT
END:VCALENDAR