BEGIN:VCALENDAR
VERSION:2.0
PRODID:haydi//Pathos Theater Website
BEGIN:VEVENT
UID:2e44470b74dec10951622b642e2bc12c
SUMMARY:Frau kann Mann 
DTSTART;TZID=Europe/Berlin:20250509T200000Z
DTEND;TZID=Europe/Berlin:20250509T211000Z
DTSTAMP:1776762655
DESCRIPTION:Ein Kunststück über die Darstellung von Männlichkeiten von Ruby Tuesday & Eric Big Clit
URL;VALUE=URI: https://www.pathos.theater/veranstaltungen/2025/2025_05-06-07/05_09_frau_kann_mann.php
END:VEVENT
END:VCALENDAR