BEGIN:VCALENDAR
VERSION:2.0
PRODID:haydi//Pathos Theater Website
BEGIN:VEVENT
UID:8349300cb8f0a5be568cf3b878ef4eb0
SUMMARY:FREUNDSCHAFT IM HOF
<p>Picknick Sürprise</p>
DTSTART;TZID=Europe/Berlin:20240717T180000Z
DTEND;TZID=Europe/Berlin:20240717
DTSTAMP:1776676605
DESCRIPTION:Picknick im Hof mit vom PATHOS kuratierten Picknickkörben
URL;VALUE=URI: https://www.pathos.theater/veranstaltungen/2024/2024_07-08/07_17_freundschaft_picknick.php
END:VEVENT
END:VCALENDAR