BEGIN:VCALENDAR
VERSION:2.0
PRODID:haydi//Pathos Theater Website
BEGIN:VEVENT
UID:10fd30f20ae34c489bdba0889d990eb9
SUMMARY:Plantage Dachau
DTSTART;TZID=Europe/Berlin:20240728T120000Z
DTEND;TZID=Europe/Berlin:20240728
DTSTAMP:1776678016
DESCRIPTION:Performance von Unpleasant Affairs
URL;VALUE=URI: https://www.pathos.theater/veranstaltungen/2024/2024_07-08/07_27_plantage_dachau.php
END:VEVENT
END:VCALENDAR