BEGIN:VCALENDAR
VERSION:2.0
PRODID:haydi//Pathos Theater Website
BEGIN:VEVENT
UID:c23539c54627a6ed5d10de875d2b5fae
SUMMARY:THINK BIG! Festival: Hush
DTSTART;TZID=Europe/Berlin:20240711T190000Z
DTEND;TZID=Europe/Berlin:20240711
DTSTAMP:1776762555
DESCRIPTION:Tanzperformance und Popkonzert von De Dansers
URL;VALUE=URI: https://www.pathos.theater/veranstaltungen/2024/2024_07-08/07_10_hush.php
END:VEVENT
END:VCALENDAR