BEGIN:VCALENDAR
VERSION:2.0
PRODID:haydi//Pathos Theater Website
BEGIN:VEVENT
UID:8d2eb928b9b23ed4f7ede211fffce1c8
SUMMARY:THINK BIG! Festival: Hush
DTSTART;TZID=Europe/Berlin:20240710T100000Z
DTEND;TZID=Europe/Berlin:20240710
DTSTAMP:1776762856
DESCRIPTION:Tanzperformance und Popkonzert von De Dansers
URL;VALUE=URI: https://www.pathos.theater/veranstaltungen/2024/2024_07-08/07_10_hush.php
END:VEVENT
END:VCALENDAR