BEGIN:VCALENDAR
VERSION:2.0
PRODID:haydi//Pathos Theater Website
BEGIN:VEVENT
UID:b062dda315836cb27446f4ffa35b50ee
SUMMARY:Making of a Man
DTSTART;TZID=Europe/Berlin:20240502T180000Z
DTEND;TZID=Europe/Berlin:20240502T190000Z
DTSTAMP:1776762682
DESCRIPTION:Quin Orton
URL;VALUE=URI: https://www.pathos.theater/veranstaltungen/2024/2024_05-06/05_go_drag_Quin_Orton.php
END:VEVENT
END:VCALENDAR